BEGIN:VCALENDAR
VERSION:2.0
PRODID:-//Sparrows Home Education - ECPv6.15.20//NONSGML v1.0//EN
CALSCALE:GREGORIAN
METHOD:PUBLISH
X-WR-CALNAME:Sparrows Home Education
X-ORIGINAL-URL:https://sparrowshomeed.com
X-WR-CALDESC:Events for Sparrows Home Education
REFRESH-INTERVAL;VALUE=DURATION:PT1H
X-Robots-Tag:noindex
X-PUBLISHED-TTL:PT1H
BEGIN:VTIMEZONE
TZID:UTC
BEGIN:STANDARD
TZOFFSETFROM:+0000
TZOFFSETTO:+0000
TZNAME:UTC
DTSTART:20250101T000000
END:STANDARD
END:VTIMEZONE
BEGIN:VEVENT
DTSTART;TZID=UTC:20260306T084500
DTEND;TZID=UTC:20260306T120000
DTSTAMP:20260423T175357
CREATED:20251215T230253Z
LAST-MODIFIED:20251215T230253Z
UID:819-1772786700-1772798400@sparrowshomeed.com
SUMMARY:Co-op Meets
DESCRIPTION:
URL:https://sparrowshomeed.com/event/co-op-meets-29/
LOCATION:Amery Free Lutheran Church\, 647 113th St\, Amery\, WI\, 54001\, United States
END:VEVENT
BEGIN:VEVENT
DTSTART;TZID=UTC:20260313T084500
DTEND;TZID=UTC:20260313T120000
DTSTAMP:20260423T175357
CREATED:20251216T172748Z
LAST-MODIFIED:20251216T172748Z
UID:835-1773391500-1773403200@sparrowshomeed.com
SUMMARY:Co-op Meets
DESCRIPTION:
URL:https://sparrowshomeed.com/event/co-op-meets-30/
LOCATION:Amery Free Lutheran Church\, 647 113th St\, Amery\, WI\, 54001\, United States
END:VEVENT
BEGIN:VEVENT
DTSTART;TZID=UTC:20260320T084500
DTEND;TZID=UTC:20260320T120000
DTSTAMP:20260423T175357
CREATED:20251216T172834Z
LAST-MODIFIED:20251216T172834Z
UID:837-1773996300-1774008000@sparrowshomeed.com
SUMMARY:Co-op Meets
DESCRIPTION:
URL:https://sparrowshomeed.com/event/co-op-meets-31/
LOCATION:Amery Free Lutheran Church\, 647 113th St\, Amery\, WI\, 54001\, United States
END:VEVENT
BEGIN:VEVENT
DTSTART;VALUE=DATE:20260327
DTEND;VALUE=DATE:20260328
DTSTAMP:20260423T175357
CREATED:20251216T174346Z
LAST-MODIFIED:20260114T173611Z
UID:850-1774569600-1774655999@sparrowshomeed.com
SUMMARY:Field Trip - Science Museum
DESCRIPTION:
URL:https://sparrowshomeed.com/event/field-trip-location-tbd-3/
LOCATION:Science Museum of Minnesota
END:VEVENT
END:VCALENDAR