BEGIN:VCALENDAR
VERSION:2.0
PRODID:-//Sparrows Home Education - ECPv6.15.20//NONSGML v1.0//EN
CALSCALE:GREGORIAN
METHOD:PUBLISH
X-WR-CALNAME:Sparrows Home Education
X-ORIGINAL-URL:https://sparrowshomeed.com
X-WR-CALDESC:Events for Sparrows Home Education
REFRESH-INTERVAL;VALUE=DURATION:PT1H
X-Robots-Tag:noindex
X-PUBLISHED-TTL:PT1H
BEGIN:VTIMEZONE
TZID:UTC
BEGIN:STANDARD
TZOFFSETFROM:+0000
TZOFFSETTO:+0000
TZNAME:UTC
DTSTART:20230101T000000
END:STANDARD
END:VTIMEZONE
BEGIN:VEVENT
DTSTART;TZID=UTC:20240405T080000
DTEND;TZID=UTC:20240405T170000
DTSTAMP:20260425T001810
CREATED:20240212T161635Z
LAST-MODIFIED:20240212T161635Z
UID:294-1712304000-1712336400@sparrowshomeed.com
SUMMARY:Break Week (CHEW)
DESCRIPTION:
URL:https://sparrowshomeed.com/event/break-week-chew/
END:VEVENT
BEGIN:VEVENT
DTSTART;TZID=UTC:20240412T090000
DTEND;TZID=UTC:20240412T120000
DTSTAMP:20260425T001810
CREATED:20240212T162916Z
LAST-MODIFIED:20240212T162916Z
UID:317-1712912400-1712923200@sparrowshomeed.com
SUMMARY:Regular Classes
DESCRIPTION:
URL:https://sparrowshomeed.com/event/regular-classes/
END:VEVENT
BEGIN:VEVENT
DTSTART;TZID=UTC:20240419T090000
DTEND;TZID=UTC:20240419T120000
DTSTAMP:20260425T001810
CREATED:20240212T162750Z
LAST-MODIFIED:20240212T162750Z
UID:315-1713517200-1713528000@sparrowshomeed.com
SUMMARY:Regular Classes
DESCRIPTION:
URL:https://sparrowshomeed.com/event/regular-classes-5/
END:VEVENT
BEGIN:VEVENT
DTSTART;TZID=UTC:20240426T090000
DTEND;TZID=UTC:20240426T120000
DTSTAMP:20260425T001810
CREATED:20240212T161710Z
LAST-MODIFIED:20240212T161710Z
UID:296-1714122000-1714132800@sparrowshomeed.com
SUMMARY:Final Day of Term 4
DESCRIPTION:
URL:https://sparrowshomeed.com/event/final-day-of-term-4/
END:VEVENT
BEGIN:VEVENT
DTSTART;TZID=UTC:20240428T163000
DTEND;TZID=UTC:20240428T183000
DTSTAMP:20260425T001810
CREATED:20240212T161744Z
LAST-MODIFIED:20240304T201038Z
UID:298-1714321800-1714329000@sparrowshomeed.com
SUMMARY:Spring Showcase
DESCRIPTION:
URL:https://sparrowshomeed.com/event/spring-showcase/
END:VEVENT
END:VCALENDAR