BEGIN:VCALENDAR
VERSION:2.0
PRODID:-//Sparrows Home Education - ECPv6.15.20//NONSGML v1.0//EN
CALSCALE:GREGORIAN
METHOD:PUBLISH
X-WR-CALNAME:Sparrows Home Education
X-ORIGINAL-URL:https://sparrowshomeed.com
X-WR-CALDESC:Events for Sparrows Home Education
REFRESH-INTERVAL;VALUE=DURATION:PT1H
X-Robots-Tag:noindex
X-PUBLISHED-TTL:PT1H
BEGIN:VTIMEZONE
TZID:UTC
BEGIN:STANDARD
TZOFFSETFROM:+0000
TZOFFSETTO:+0000
TZNAME:UTC
DTSTART:20220101T000000
END:STANDARD
END:VTIMEZONE
BEGIN:VEVENT
DTSTART;TZID=UTC:20240223T140000
DTEND;TZID=UTC:20240223T163000
DTSTAMP:20260424T152751
CREATED:20240212T162209Z
LAST-MODIFIED:20240212T162209Z
UID:303-1708696800-1708705800@sparrowshomeed.com
SUMMARY:Family Game Night
DESCRIPTION:Join us for a fun family game night! Bring a favorite game and snack to share.
URL:https://sparrowshomeed.com/event/family-game-night/
LOCATION:Osceola Community Church
END:VEVENT
BEGIN:VEVENT
DTSTART;VALUE=DATE:20240223
DTEND;VALUE=DATE:20240224
DTSTAMP:20260424T152751
CREATED:20240112T011224Z
LAST-MODIFIED:20240212T161348Z
UID:265-1708646400-1708732799@sparrowshomeed.com
SUMMARY:Break Week
DESCRIPTION:
URL:https://sparrowshomeed.com/event/field-trip/
END:VEVENT
BEGIN:VEVENT
DTSTART;TZID=UTC:20240216T090000
DTEND;TZID=UTC:20240216T120000
DTSTAMP:20260424T152751
CREATED:20240112T011302Z
LAST-MODIFIED:20240212T161312Z
UID:267-1708074000-1708084800@sparrowshomeed.com
SUMMARY:Last Day of Term 3
DESCRIPTION:
URL:https://sparrowshomeed.com/event/last-day-of-term-3/
END:VEVENT
BEGIN:VEVENT
DTSTART;TZID=UTC:20240213T100000
DTEND;TZID=UTC:20240213T120000
DTSTAMP:20260424T152751
CREATED:20240212T162025Z
LAST-MODIFIED:20240212T162025Z
UID:300-1707818400-1707825600@sparrowshomeed.com
SUMMARY:Valentine's Card Exchange
DESCRIPTION:RSVP to Julia Mederich or on BAND \nBring a decorated box to exchange cards or homemade goodies; not candy or food with dyes\, please!
URL:https://sparrowshomeed.com/event/valentines-card-exchange/
LOCATION:Osceola Community Church
END:VEVENT
BEGIN:VEVENT
DTSTART;TZID=UTC:20240112T090000
DTEND;TZID=UTC:20240112T120000
DTSTAMP:20260424T152751
CREATED:20240112T011117Z
LAST-MODIFIED:20240112T011117Z
UID:263-1705050000-1705060800@sparrowshomeed.com
SUMMARY:1st Day of Term 3
DESCRIPTION:
URL:https://sparrowshomeed.com/event/1st-day-of-term-3/
END:VEVENT
BEGIN:VEVENT
DTSTART;TZID=UTC:20231215T173000
DTEND;TZID=UTC:20231215T200000
DTSTAMP:20260424T152751
CREATED:20230929T192820Z
LAST-MODIFIED:20230929T192820Z
UID:138-1702661400-1702670400@sparrowshomeed.com
SUMMARY:Advent Showcase
DESCRIPTION:
URL:https://sparrowshomeed.com/event/advent-showcase/
END:VEVENT
BEGIN:VEVENT
DTSTART;TZID=UTC:20231124T100000
DTEND;TZID=UTC:20231124T120000
DTSTAMP:20260424T152751
CREATED:20230929T192633Z
LAST-MODIFIED:20230929T192940Z
UID:136-1700820000-1700827200@sparrowshomeed.com
SUMMARY:November Field Trip
DESCRIPTION:
URL:https://sparrowshomeed.com/event/november-field-trip/
END:VEVENT
BEGIN:VEVENT
DTSTART;TZID=UTC:20231103T090000
DTEND;TZID=UTC:20231103T120000
DTSTAMP:20260424T152751
CREATED:20230929T192537Z
LAST-MODIFIED:20230929T193204Z
UID:132-1699002000-1699012800@sparrowshomeed.com
SUMMARY:1st Day of Term 2
DESCRIPTION:
URL:https://sparrowshomeed.com/event/1stdayterm2/
END:VEVENT
END:VCALENDAR