BEGIN:VCALENDAR
VERSION:2.0
PRODID:-//Sparrows Home Education - ECPv6.15.20//NONSGML v1.0//EN
CALSCALE:GREGORIAN
METHOD:PUBLISH
X-WR-CALNAME:Sparrows Home Education
X-ORIGINAL-URL:https://sparrowshomeed.com
X-WR-CALDESC:Events for Sparrows Home Education
REFRESH-INTERVAL;VALUE=DURATION:PT1H
X-Robots-Tag:noindex
X-PUBLISHED-TTL:PT1H
BEGIN:VTIMEZONE
TZID:UTC
BEGIN:STANDARD
TZOFFSETFROM:+0000
TZOFFSETTO:+0000
TZNAME:UTC
DTSTART:20230101T000000
END:STANDARD
END:VTIMEZONE
BEGIN:VEVENT
DTSTART;TZID=UTC:20250124T084500
DTEND;TZID=UTC:20250124T120000
DTSTAMP:20260423T231909
CREATED:20240822T160055Z
LAST-MODIFIED:20240822T160055Z
UID:584-1737708300-1737720000@sparrowshomeed.com
SUMMARY:Co-op Meets
DESCRIPTION:Regular co-op day
URL:https://sparrowshomeed.com/event/co-op-meets-14/
LOCATION:Amery Free Lutheran Church\, 647 113th St\, Amery\, WI\, 54001\, United States
END:VEVENT
BEGIN:VEVENT
DTSTART;TZID=UTC:20250117T084500
DTEND;TZID=UTC:20250117T120000
DTSTAMP:20260423T231909
CREATED:20240822T160003Z
LAST-MODIFIED:20240822T160003Z
UID:582-1737103500-1737115200@sparrowshomeed.com
SUMMARY:Co-op Meets
DESCRIPTION:Regular co-op day
URL:https://sparrowshomeed.com/event/co-op-meets-13/
LOCATION:Amery Free Lutheran Church\, 647 113th St\, Amery\, WI\, 54001\, United States
END:VEVENT
BEGIN:VEVENT
DTSTART;TZID=UTC:20250110T084500
DTEND;TZID=UTC:20250110T120000
DTSTAMP:20260423T231909
CREATED:20240822T155917Z
LAST-MODIFIED:20240822T155917Z
UID:580-1736498700-1736510400@sparrowshomeed.com
SUMMARY:First Day of Second Semester
DESCRIPTION:Regular co-op day
URL:https://sparrowshomeed.com/event/first-day-of-second-semester/
LOCATION:Amery Free Lutheran Church\, 647 113th St\, Amery\, WI\, 54001\, United States
END:VEVENT
BEGIN:VEVENT
DTSTART;TZID=UTC:20241213T173000
DTEND;TZID=UTC:20241213T193000
DTSTAMP:20260423T231909
CREATED:20240822T133844Z
LAST-MODIFIED:20240822T133844Z
UID:577-1734111000-1734118200@sparrowshomeed.com
SUMMARY:Sparrows Advent Showcase
DESCRIPTION:Please plan to join us for our Advent Showcase. The kids will get to show you what they’ve been working on for the year and we will share a meal in celebration of King Jesus. Keep an eye out for more information\, but get this date on your calendar and invite your families!
URL:https://sparrowshomeed.com/event/sparrows-advent-showcase/
LOCATION:Amery Free Lutheran Church\, 647 113th St\, Amery\, WI\, 54001\, United States
END:VEVENT
BEGIN:VEVENT
DTSTART;TZID=UTC:20241213T084500
DTEND;TZID=UTC:20241213T120000
DTSTAMP:20260423T231909
CREATED:20240822T133622Z
LAST-MODIFIED:20240822T133622Z
UID:574-1734079500-1734091200@sparrowshomeed.com
SUMMARY:Co-op Meets
DESCRIPTION:Regular co-op day
URL:https://sparrowshomeed.com/event/co-op-meets-12/
LOCATION:Amery Free Lutheran Church\, 647 113th St\, Amery\, WI\, 54001\, United States
END:VEVENT
BEGIN:VEVENT
DTSTART;TZID=UTC:20241206T084500
DTEND;TZID=UTC:20241206T120000
DTSTAMP:20260423T231909
CREATED:20240822T133546Z
LAST-MODIFIED:20240822T133546Z
UID:572-1733474700-1733486400@sparrowshomeed.com
SUMMARY:Co-op Meets
DESCRIPTION:Regular co-op day
URL:https://sparrowshomeed.com/event/co-op-meets-11/
LOCATION:Amery Free Lutheran Church\, 647 113th St\, Amery\, WI\, 54001\, United States
END:VEVENT
BEGIN:VEVENT
DTSTART;TZID=UTC:20241122T084500
DTEND;TZID=UTC:20241122T120000
DTSTAMP:20260423T231909
CREATED:20240822T133506Z
LAST-MODIFIED:20240822T133506Z
UID:570-1732265100-1732276800@sparrowshomeed.com
SUMMARY:Co-op Meets
DESCRIPTION:Regular co-op day
URL:https://sparrowshomeed.com/event/co-op-meets-10/
LOCATION:Amery Free Lutheran Church\, 647 113th St\, Amery\, WI\, 54001\, United States
END:VEVENT
BEGIN:VEVENT
DTSTART;TZID=UTC:20241115T084500
DTEND;TZID=UTC:20241115T120000
DTSTAMP:20260423T231909
CREATED:20240822T133424Z
LAST-MODIFIED:20240822T133424Z
UID:568-1731660300-1731672000@sparrowshomeed.com
SUMMARY:Co-op Meets
DESCRIPTION:Regular co-op day
URL:https://sparrowshomeed.com/event/co-op-meets-9/
LOCATION:Amery Free Lutheran Church\, 647 113th St\, Amery\, WI\, 54001\, United States
END:VEVENT
BEGIN:VEVENT
DTSTART;TZID=UTC:20241108T084500
DTEND;TZID=UTC:20241108T120000
DTSTAMP:20260423T231909
CREATED:20240822T133337Z
LAST-MODIFIED:20240822T133337Z
UID:566-1731055500-1731067200@sparrowshomeed.com
SUMMARY:Co-op Meets
DESCRIPTION:Regular co-op day
URL:https://sparrowshomeed.com/event/co-op-meets-8/
LOCATION:Amery Free Lutheran Church\, 647 113th St\, Amery\, WI\, 54001\, United States
END:VEVENT
BEGIN:VEVENT
DTSTART;TZID=UTC:20241101T084500
DTEND;TZID=UTC:20241101T120000
DTSTAMP:20260423T231909
CREATED:20240822T133242Z
LAST-MODIFIED:20240822T133242Z
UID:564-1730450700-1730462400@sparrowshomeed.com
SUMMARY:Co-op Meets
DESCRIPTION:Regular co-op day
URL:https://sparrowshomeed.com/event/co-op-meets-7/
LOCATION:Amery Free Lutheran Church\, 647 113th St\, Amery\, WI\, 54001\, United States
END:VEVENT
BEGIN:VEVENT
DTSTART;TZID=UTC:20241018T134500
DTEND;TZID=UTC:20241018T150000
DTSTAMP:20260423T231909
CREATED:20240822T133148Z
LAST-MODIFIED:20241001T192441Z
UID:561-1729259100-1729263600@sparrowshomeed.com
SUMMARY:Field Trip: Osceola Railway
DESCRIPTION:Join us for a field trip to the Osceola Railway and ride the train! See our newsletters and listen in on Morning Assembly for more info and to get signed up.
URL:https://sparrowshomeed.com/event/field-trip-osceola-railway/
LOCATION:Osceola Railway\, 114 Depot Road\, Osceola\, Wisconsin\, 54020
END:VEVENT
BEGIN:VEVENT
DTSTART;TZID=UTC:20241018T084500
DTEND;TZID=UTC:20241018T120000
DTSTAMP:20260423T231909
CREATED:20240822T132858Z
LAST-MODIFIED:20240822T132858Z
UID:559-1729241100-1729252800@sparrowshomeed.com
SUMMARY:Co-op Meets
DESCRIPTION:Regular co-op day
URL:https://sparrowshomeed.com/event/co-op-meets-6/
LOCATION:Amery Free Lutheran Church\, 647 113th St\, Amery\, WI\, 54001\, United States
END:VEVENT
BEGIN:VEVENT
DTSTART;TZID=UTC:20241011T084500
DTEND;TZID=UTC:20241011T120000
DTSTAMP:20260423T231909
CREATED:20240822T132813Z
LAST-MODIFIED:20240822T132813Z
UID:557-1728636300-1728648000@sparrowshomeed.com
SUMMARY:Co-op Meets
DESCRIPTION:Regular co-op day
URL:https://sparrowshomeed.com/event/co-op-meets-5/
LOCATION:Amery Free Lutheran Church\, 647 113th St\, Amery\, WI\, 54001\, United States
END:VEVENT
BEGIN:VEVENT
DTSTART;TZID=UTC:20241004T084500
DTEND;TZID=UTC:20241004T120000
DTSTAMP:20260423T231909
CREATED:20240822T132721Z
LAST-MODIFIED:20240822T132721Z
UID:555-1728031500-1728043200@sparrowshomeed.com
SUMMARY:Co-op Meets
DESCRIPTION:Regular co-op day
URL:https://sparrowshomeed.com/event/co-op-meets-4/
LOCATION:Amery Free Lutheran Church\, 647 113th St\, Amery\, WI\, 54001\, United States
END:VEVENT
BEGIN:VEVENT
DTSTART;TZID=UTC:20240927T100000
DTEND;TZID=UTC:20240927T130000
DTSTAMP:20260423T231909
CREATED:20240822T132615Z
LAST-MODIFIED:20240822T132615Z
UID:552-1727431200-1727442000@sparrowshomeed.com
SUMMARY:Field Trip to White Pine Berry Farm
DESCRIPTION:Field Trip Day! Watch the newsletter and listen in on Morning Assembly for more info.
URL:https://sparrowshomeed.com/event/field-trip-to-white-pine-berry-farm/
LOCATION:White Pine Berry Farm\, 1482 Oak Drive\, River Falls\, Wisconsin
END:VEVENT
BEGIN:VEVENT
DTSTART;TZID=UTC:20240920T084500
DTEND;TZID=UTC:20240920T120000
DTSTAMP:20260423T231909
CREATED:20240822T132354Z
LAST-MODIFIED:20240822T132354Z
UID:550-1726821900-1726833600@sparrowshomeed.com
SUMMARY:Co-op Meets
DESCRIPTION:Regular co-op day
URL:https://sparrowshomeed.com/event/co-op-meets-3/
LOCATION:Amery Free Lutheran Church\, 647 113th St\, Amery\, WI\, 54001\, United States
END:VEVENT
BEGIN:VEVENT
DTSTART;TZID=UTC:20240913T084500
DTEND;TZID=UTC:20240913T120000
DTSTAMP:20260423T231909
CREATED:20240822T132304Z
LAST-MODIFIED:20240822T132304Z
UID:548-1726217100-1726228800@sparrowshomeed.com
SUMMARY:Co-op Meets
DESCRIPTION:Regular co-op day
URL:https://sparrowshomeed.com/event/co-op-meets-2/
LOCATION:Amery Free Lutheran Church\, 647 113th St\, Amery\, WI\, 54001\, United States
END:VEVENT
BEGIN:VEVENT
DTSTART;TZID=UTC:20240906T084500
DTEND;TZID=UTC:20240906T120000
DTSTAMP:20260423T231909
CREATED:20240822T132205Z
LAST-MODIFIED:20240822T132205Z
UID:545-1725612300-1725624000@sparrowshomeed.com
SUMMARY:Co-op Meets
DESCRIPTION:Regular co-op day
URL:https://sparrowshomeed.com/event/co-op-meets/
LOCATION:Amery Free Lutheran Church\, 647 113th St\, Amery\, WI\, 54001\, United States
END:VEVENT
BEGIN:VEVENT
DTSTART;TZID=UTC:20240816T100000
DTEND;TZID=UTC:20240816T120000
DTSTAMP:20260423T231909
CREATED:20240507T192230Z
LAST-MODIFIED:20240507T192230Z
UID:411-1723802400-1723809600@sparrowshomeed.com
SUMMARY:Park Meet-Up
DESCRIPTION:
URL:https://sparrowshomeed.com/event/park-meet-up-8/
LOCATION:Clear Lake Park\, Clear Lake\, WI
END:VEVENT
BEGIN:VEVENT
DTSTART;TZID=UTC:20240812T110000
DTEND;TZID=UTC:20240812T170000
DTSTAMP:20260423T231909
CREATED:20240507T192153Z
LAST-MODIFIED:20240811T230930Z
UID:408-1723460400-1723482000@sparrowshomeed.com
SUMMARY:CANCELLED: Wild Mountain
DESCRIPTION:
URL:https://sparrowshomeed.com/event/wild-mountain/
LOCATION:Wild Mountain\, Taylors Falls\, MN
END:VEVENT
BEGIN:VEVENT
DTSTART;TZID=UTC:20240802T100000
DTEND;TZID=UTC:20240802T120000
DTSTAMP:20260423T231909
CREATED:20240507T192040Z
LAST-MODIFIED:20240507T192040Z
UID:406-1722592800-1722600000@sparrowshomeed.com
SUMMARY:Park Meet-Up
DESCRIPTION:
URL:https://sparrowshomeed.com/event/park-meet-up-7/
LOCATION:Clear Lake Park\, Clear Lake\, WI
END:VEVENT
BEGIN:VEVENT
DTSTART;TZID=UTC:20240731T180000
DTEND;TZID=UTC:20240731T210000
DTSTAMP:20260423T231909
CREATED:20240507T191952Z
LAST-MODIFIED:20240507T191952Z
UID:404-1722448800-1722459600@sparrowshomeed.com
SUMMARY:Mom's Prayer Night & Planning Meeting
DESCRIPTION:If you are enrolling in Sparrows for the ’24-’25 school year\, please come to this meeting. \nLocation TBD \nGet the BAND app.
URL:https://sparrowshomeed.com/event/moms-prayer-night-planning-meeting/
LOCATION:WI
END:VEVENT
BEGIN:VEVENT
DTSTART;TZID=UTC:20240719T100000
DTEND;TZID=UTC:20240719T120000
DTSTAMP:20260423T231909
CREATED:20240507T191804Z
LAST-MODIFIED:20240507T191804Z
UID:402-1721383200-1721390400@sparrowshomeed.com
SUMMARY:Park Meet-Up
DESCRIPTION:
URL:https://sparrowshomeed.com/event/park-meet-up-6/
LOCATION:Clear Lake Park\, Clear Lake\, WI
END:VEVENT
BEGIN:VEVENT
DTSTART;TZID=UTC:20240705T100000
DTEND;TZID=UTC:20240705T120000
DTSTAMP:20260423T231909
CREATED:20240507T191318Z
LAST-MODIFIED:20240507T191318Z
UID:400-1720173600-1720180800@sparrowshomeed.com
SUMMARY:Park Meet-Up
DESCRIPTION:
URL:https://sparrowshomeed.com/event/park-meet-up-5/
LOCATION:Clear Lake Park\, Clear Lake\, WI
END:VEVENT
BEGIN:VEVENT
DTSTART;TZID=UTC:20240629T180000
DTEND;TZID=UTC:20240629T210000
DTSTAMP:20260423T231909
CREATED:20240507T191147Z
LAST-MODIFIED:20240507T191147Z
UID:398-1719684000-1719694800@sparrowshomeed.com
SUMMARY:Mom's Prayer Night
DESCRIPTION:Location TBA on BAND \nGet BAND here.
URL:https://sparrowshomeed.com/event/moms-prayer-night-2/
LOCATION:WI
END:VEVENT
BEGIN:VEVENT
DTSTART;TZID=UTC:20240621T100000
DTEND;TZID=UTC:20240621T120000
DTSTAMP:20260423T231909
CREATED:20240507T191026Z
LAST-MODIFIED:20240507T191026Z
UID:396-1718964000-1718971200@sparrowshomeed.com
SUMMARY:Park Meet-Up
DESCRIPTION:
URL:https://sparrowshomeed.com/event/park-meet-up-4/
LOCATION:Clear Lake Park\, Clear Lake\, WI
END:VEVENT
BEGIN:VEVENT
DTSTART;TZID=UTC:20240607T100000
DTEND;TZID=UTC:20240607T120000
DTSTAMP:20260423T231909
CREATED:20240507T190945Z
LAST-MODIFIED:20240507T190945Z
UID:393-1717754400-1717761600@sparrowshomeed.com
SUMMARY:Park Meet-Up
DESCRIPTION:
URL:https://sparrowshomeed.com/event/park-meet-up-3/
LOCATION:Clear Lake Park\, Clear Lake\, WI
END:VEVENT
BEGIN:VEVENT
DTSTART;TZID=UTC:20240529T180000
DTEND;TZID=UTC:20240529T210000
DTSTAMP:20260423T231909
CREATED:20240507T190823Z
LAST-MODIFIED:20240507T190823Z
UID:391-1717005600-1717016400@sparrowshomeed.com
SUMMARY:Mom's Prayer Night
DESCRIPTION:Location TBA on BAND \nGet BAND here
URL:https://sparrowshomeed.com/event/moms-prayer-night/
LOCATION:WI
END:VEVENT
BEGIN:VEVENT
DTSTART;TZID=UTC:20240524T100000
DTEND;TZID=UTC:20240524T120000
DTSTAMP:20260423T231909
CREATED:20240507T190555Z
LAST-MODIFIED:20240507T190555Z
UID:389-1716544800-1716552000@sparrowshomeed.com
SUMMARY:Park Meet-Up
DESCRIPTION:
URL:https://sparrowshomeed.com/event/park-meet-up-2/
LOCATION:North Park\, Amery\, WI
END:VEVENT
BEGIN:VEVENT
DTSTART;TZID=UTC:20240510T100000
DTEND;TZID=UTC:20240510T120000
DTSTAMP:20260423T231909
CREATED:20240507T190522Z
LAST-MODIFIED:20240507T190522Z
UID:386-1715335200-1715342400@sparrowshomeed.com
SUMMARY:Park Meet-Up
DESCRIPTION:
URL:https://sparrowshomeed.com/event/park-meet-up/
LOCATION:North Park\, Amery\, WI
END:VEVENT
END:VCALENDAR