BEGIN:VCALENDAR
VERSION:2.0
PRODID:-//Sparrows Home Education - ECPv6.15.20//NONSGML v1.0//EN
CALSCALE:GREGORIAN
METHOD:PUBLISH
X-ORIGINAL-URL:https://sparrowshomeed.com
X-WR-CALDESC:Events for Sparrows Home Education
REFRESH-INTERVAL;VALUE=DURATION:PT1H
X-Robots-Tag:noindex
X-PUBLISHED-TTL:PT1H
BEGIN:VTIMEZONE
TZID:UTC
BEGIN:STANDARD
TZOFFSETFROM:+0000
TZOFFSETTO:+0000
TZNAME:UTC
DTSTART:20250101T000000
END:STANDARD
END:VTIMEZONE
BEGIN:VEVENT
DTSTART;TZID=UTC:20260220T084500
DTEND;TZID=UTC:20260220T120000
DTSTAMP:20260423T231854
CREATED:20251215T230025Z
LAST-MODIFIED:20251215T230025Z
UID:815-1771577100-1771588800@sparrowshomeed.com
SUMMARY:Co-op Meets
DESCRIPTION:
URL:https://sparrowshomeed.com/event/co-op-meets-28/
LOCATION:Amery Free Lutheran Church\, 647 113th St\, Amery\, WI\, 54001\, United States
END:VEVENT
BEGIN:VEVENT
DTSTART;VALUE=DATE:20260227
DTEND;VALUE=DATE:20260228
DTSTAMP:20260423T231854
CREATED:20251215T230138Z
LAST-MODIFIED:20260114T173429Z
UID:817-1772150400-1772236799@sparrowshomeed.com
SUMMARY:Field Trip - Swimming at the Centre
DESCRIPTION:
URL:https://sparrowshomeed.com/event/field-trip-location-tbd-2/
LOCATION:The Centre\, New Richmond\, WI
END:VEVENT
BEGIN:VEVENT
DTSTART;TZID=UTC:20260306T084500
DTEND;TZID=UTC:20260306T120000
DTSTAMP:20260423T231854
CREATED:20251215T230253Z
LAST-MODIFIED:20251215T230253Z
UID:819-1772786700-1772798400@sparrowshomeed.com
SUMMARY:Co-op Meets
DESCRIPTION:
URL:https://sparrowshomeed.com/event/co-op-meets-29/
LOCATION:Amery Free Lutheran Church\, 647 113th St\, Amery\, WI\, 54001\, United States
END:VEVENT
BEGIN:VEVENT
DTSTART;TZID=UTC:20260313T084500
DTEND;TZID=UTC:20260313T120000
DTSTAMP:20260423T231854
CREATED:20251216T172748Z
LAST-MODIFIED:20251216T172748Z
UID:835-1773391500-1773403200@sparrowshomeed.com
SUMMARY:Co-op Meets
DESCRIPTION:
URL:https://sparrowshomeed.com/event/co-op-meets-30/
LOCATION:Amery Free Lutheran Church\, 647 113th St\, Amery\, WI\, 54001\, United States
END:VEVENT
BEGIN:VEVENT
DTSTART;TZID=UTC:20260320T084500
DTEND;TZID=UTC:20260320T120000
DTSTAMP:20260423T231854
CREATED:20251216T172834Z
LAST-MODIFIED:20251216T172834Z
UID:837-1773996300-1774008000@sparrowshomeed.com
SUMMARY:Co-op Meets
DESCRIPTION:
URL:https://sparrowshomeed.com/event/co-op-meets-31/
LOCATION:Amery Free Lutheran Church\, 647 113th St\, Amery\, WI\, 54001\, United States
END:VEVENT
BEGIN:VEVENT
DTSTART;VALUE=DATE:20260327
DTEND;VALUE=DATE:20260328
DTSTAMP:20260423T231854
CREATED:20251216T174346Z
LAST-MODIFIED:20260114T173611Z
UID:850-1774569600-1774655999@sparrowshomeed.com
SUMMARY:Field Trip - Science Museum
DESCRIPTION:
URL:https://sparrowshomeed.com/event/field-trip-location-tbd-3/
LOCATION:Science Museum of Minnesota
END:VEVENT
BEGIN:VEVENT
DTSTART;TZID=UTC:20260410T084500
DTEND;TZID=UTC:20260410T120000
DTSTAMP:20260423T231854
CREATED:20251216T172939Z
LAST-MODIFIED:20251216T172939Z
UID:839-1775810700-1775822400@sparrowshomeed.com
SUMMARY:Co-op Meets
DESCRIPTION:
URL:https://sparrowshomeed.com/event/co-op-meets-32/
LOCATION:Amery Free Lutheran Church\, 647 113th St\, Amery\, WI\, 54001\, United States
END:VEVENT
BEGIN:VEVENT
DTSTART;TZID=UTC:20260417T084500
DTEND;TZID=UTC:20260511T120000
DTSTAMP:20260423T231854
CREATED:20251216T173259Z
LAST-MODIFIED:20251216T173520Z
UID:843-1776415500-1778500800@sparrowshomeed.com
SUMMARY:Co-op Meets
DESCRIPTION:
URL:https://sparrowshomeed.com/event/co-op-meets-34/
LOCATION:Amery Free Lutheran Church\, 647 113th St\, Amery\, WI\, 54001\, United States
END:VEVENT
BEGIN:VEVENT
DTSTART;TZID=UTC:20260424T084500
DTEND;TZID=UTC:20260424T120000
DTSTAMP:20260423T231854
CREATED:20251216T173616Z
LAST-MODIFIED:20251216T173616Z
UID:845-1777020300-1777032000@sparrowshomeed.com
SUMMARY:Co-op Meets
DESCRIPTION:
URL:https://sparrowshomeed.com/event/co-op-meets-35/
LOCATION:Amery Free Lutheran Church\, 647 113th St\, Amery\, WI\, 54001\, United States
END:VEVENT
BEGIN:VEVENT
DTSTART;TZID=UTC:20260424T173000
DTEND;TZID=UTC:20260424T200000
DTSTAMP:20260423T231854
CREATED:20251216T173959Z
LAST-MODIFIED:20251216T174033Z
UID:847-1777051800-1777060800@sparrowshomeed.com
SUMMARY:Spring Showcase + Maker's Market
DESCRIPTION:Join us for our Sparrows End-of-Semester Showcase. This is a special evening to celebrate all that our children have learned this fall! This event is for all Sparrows families and friends\, whether or not your child is participating in the Maker’s Market.
URL:https://sparrowshomeed.com/event/spring-showcase-makers-markrt/
LOCATION:Amery Free Lutheran Church\, 647 113th St\, Amery\, WI\, 54001\, United States
END:VEVENT
END:VCALENDAR