BEGIN:VCALENDAR
VERSION:2.0
PRODID:-//Sparrows Home Education - ECPv6.15.20//NONSGML v1.0//EN
CALSCALE:GREGORIAN
METHOD:PUBLISH
X-WR-CALNAME:Sparrows Home Education
X-ORIGINAL-URL:https://sparrowshomeed.com
X-WR-CALDESC:Events for Sparrows Home Education
REFRESH-INTERVAL;VALUE=DURATION:PT1H
X-Robots-Tag:noindex
X-PUBLISHED-TTL:PT1H
BEGIN:VTIMEZONE
TZID:UTC
BEGIN:STANDARD
TZOFFSETFROM:+0000
TZOFFSETTO:+0000
TZNAME:UTC
DTSTART:20230101T000000
END:STANDARD
END:VTIMEZONE
BEGIN:VEVENT
DTSTART;VALUE=DATE:20260327
DTEND;VALUE=DATE:20260328
DTSTAMP:20260423T214937
CREATED:20251216T174346Z
LAST-MODIFIED:20260114T173611Z
UID:850-1774569600-1774655999@sparrowshomeed.com
SUMMARY:Field Trip - Science Museum
DESCRIPTION:
URL:https://sparrowshomeed.com/event/field-trip-location-tbd-3/
LOCATION:Science Museum of Minnesota
END:VEVENT
BEGIN:VEVENT
DTSTART;TZID=UTC:20260320T084500
DTEND;TZID=UTC:20260320T120000
DTSTAMP:20260423T214937
CREATED:20251216T172834Z
LAST-MODIFIED:20251216T172834Z
UID:837-1773996300-1774008000@sparrowshomeed.com
SUMMARY:Co-op Meets
DESCRIPTION:
URL:https://sparrowshomeed.com/event/co-op-meets-31/
LOCATION:Amery Free Lutheran Church\, 647 113th St\, Amery\, WI\, 54001\, United States
END:VEVENT
BEGIN:VEVENT
DTSTART;TZID=UTC:20260313T084500
DTEND;TZID=UTC:20260313T120000
DTSTAMP:20260423T214937
CREATED:20251216T172748Z
LAST-MODIFIED:20251216T172748Z
UID:835-1773391500-1773403200@sparrowshomeed.com
SUMMARY:Co-op Meets
DESCRIPTION:
URL:https://sparrowshomeed.com/event/co-op-meets-30/
LOCATION:Amery Free Lutheran Church\, 647 113th St\, Amery\, WI\, 54001\, United States
END:VEVENT
BEGIN:VEVENT
DTSTART;TZID=UTC:20260306T084500
DTEND;TZID=UTC:20260306T120000
DTSTAMP:20260423T214937
CREATED:20251215T230253Z
LAST-MODIFIED:20251215T230253Z
UID:819-1772786700-1772798400@sparrowshomeed.com
SUMMARY:Co-op Meets
DESCRIPTION:
URL:https://sparrowshomeed.com/event/co-op-meets-29/
LOCATION:Amery Free Lutheran Church\, 647 113th St\, Amery\, WI\, 54001\, United States
END:VEVENT
BEGIN:VEVENT
DTSTART;VALUE=DATE:20260227
DTEND;VALUE=DATE:20260228
DTSTAMP:20260423T214937
CREATED:20251215T230138Z
LAST-MODIFIED:20260114T173429Z
UID:817-1772150400-1772236799@sparrowshomeed.com
SUMMARY:Field Trip - Swimming at the Centre
DESCRIPTION:
URL:https://sparrowshomeed.com/event/field-trip-location-tbd-2/
LOCATION:The Centre\, New Richmond\, WI
END:VEVENT
BEGIN:VEVENT
DTSTART;TZID=UTC:20260220T084500
DTEND;TZID=UTC:20260220T120000
DTSTAMP:20260423T214937
CREATED:20251215T230025Z
LAST-MODIFIED:20251215T230025Z
UID:815-1771577100-1771588800@sparrowshomeed.com
SUMMARY:Co-op Meets
DESCRIPTION:
URL:https://sparrowshomeed.com/event/co-op-meets-28/
LOCATION:Amery Free Lutheran Church\, 647 113th St\, Amery\, WI\, 54001\, United States
END:VEVENT
BEGIN:VEVENT
DTSTART;TZID=UTC:20260214T084500
DTEND;TZID=UTC:20260214T120000
DTSTAMP:20260423T214937
CREATED:20251215T225915Z
LAST-MODIFIED:20251215T225915Z
UID:813-1771058700-1771070400@sparrowshomeed.com
SUMMARY:Co-op Meets
DESCRIPTION:
URL:https://sparrowshomeed.com/event/co-op-meets-27/
LOCATION:Amery Free Lutheran Church\, 647 113th St\, Amery\, WI\, 54001\, United States
END:VEVENT
BEGIN:VEVENT
DTSTART;TZID=UTC:20260206T084500
DTEND;TZID=UTC:20260206T120000
DTSTAMP:20260423T214937
CREATED:20251215T225514Z
LAST-MODIFIED:20251215T225514Z
UID:811-1770367500-1770379200@sparrowshomeed.com
SUMMARY:Co-op Meets
DESCRIPTION:
URL:https://sparrowshomeed.com/event/co-op-meets-26/
LOCATION:Amery Free Lutheran Church\, 647 113th St\, Amery\, WI\, 54001\, United States
END:VEVENT
BEGIN:VEVENT
DTSTART;VALUE=DATE:20260130
DTEND;VALUE=DATE:20260131
DTSTAMP:20260423T214937
CREATED:20251215T225328Z
LAST-MODIFIED:20260114T173651Z
UID:809-1769731200-1769817599@sparrowshomeed.com
SUMMARY:Field Trip - Sea Life Aquarium
DESCRIPTION:
URL:https://sparrowshomeed.com/event/field-trip-location-tbd/
LOCATION:Mall of America\, 60 E Broadway\, Bloomington\, MN 55425\, MN\, 55425\, United States
END:VEVENT
BEGIN:VEVENT
DTSTART;TZID=UTC:20260123T084500
DTEND;TZID=UTC:20260123T120000
DTSTAMP:20260423T214937
CREATED:20251215T225005Z
LAST-MODIFIED:20251215T225141Z
UID:805-1769157900-1769169600@sparrowshomeed.com
SUMMARY:Co-op Meets
DESCRIPTION:
URL:https://sparrowshomeed.com/event/co-op-meets-25/
LOCATION:Amery Free Lutheran Church\, 647 113th St\, Amery\, WI\, 54001\, United States
END:VEVENT
BEGIN:VEVENT
DTSTART;TZID=UTC:20260116T084500
DTEND;TZID=UTC:20260116T120000
DTSTAMP:20260423T214937
CREATED:20251215T224828Z
LAST-MODIFIED:20251215T224828Z
UID:803-1768553100-1768564800@sparrowshomeed.com
SUMMARY:Co-op Meets
DESCRIPTION:
URL:https://sparrowshomeed.com/event/co-op-meets-24/
LOCATION:Amery Free Lutheran Church\, 647 113th St\, Amery\, WI\, 54001\, United States
END:VEVENT
BEGIN:VEVENT
DTSTART;TZID=UTC:20251219T150000
DTEND;TZID=UTC:20251219T170000
DTSTAMP:20260423T214937
CREATED:20251216T150325Z
LAST-MODIFIED:20251216T150325Z
UID:825-1766156400-1766163600@sparrowshomeed.com
SUMMARY:Registration for 2026 Winter + Spring Semester
DESCRIPTION:Please be sure to be subscribed to our newsletter for registration information and updates!
URL:https://sparrowshomeed.com/event/register-for-sparrows-homeschool-co-op-amery-wi/
END:VEVENT
BEGIN:VEVENT
DTSTART;TZID=UTC:20251219T103000
DTEND;TZID=UTC:20251219T120000
DTSTAMP:20260423T214937
CREATED:20251216T145629Z
LAST-MODIFIED:20251216T145629Z
UID:822-1766140200-1766145600@sparrowshomeed.com
SUMMARY:Christmas Caroling
DESCRIPTION:
URL:https://sparrowshomeed.com/event/christmas-caroling/
LOCATION:Willow Ridge Nursing Home
END:VEVENT
BEGIN:VEVENT
DTSTART;TZID=UTC:20251216T084500
DTEND;TZID=UTC:20251216T120000
DTSTAMP:20260423T214937
CREATED:20251216T173057Z
LAST-MODIFIED:20251216T173057Z
UID:841-1765874700-1765886400@sparrowshomeed.com
SUMMARY:Co-op Meets
DESCRIPTION:
URL:https://sparrowshomeed.com/event/co-op-meets-33/
LOCATION:Amery Free Lutheran Church\, 647 113th St\, Amery\, WI\, 54001\, United States
END:VEVENT
BEGIN:VEVENT
DTSTART;TZID=UTC:20250425T084500
DTEND;TZID=UTC:20250425T120000
DTSTAMP:20260423T214937
CREATED:20240822T161153Z
LAST-MODIFIED:20240822T161153Z
UID:611-1745570700-1745582400@sparrowshomeed.com
SUMMARY:Co-op Meets
DESCRIPTION:Regular co-op day
URL:https://sparrowshomeed.com/event/co-op-meets-23/
LOCATION:Amery Free Lutheran Church\, 647 113th St\, Amery\, WI\, 54001\, United States
END:VEVENT
BEGIN:VEVENT
DTSTART;TZID=UTC:20250418T084500
DTEND;TZID=UTC:20250418T120000
DTSTAMP:20260423T214937
CREATED:20240822T161122Z
LAST-MODIFIED:20240822T161122Z
UID:609-1744965900-1744977600@sparrowshomeed.com
SUMMARY:Co-op Meets
DESCRIPTION:Regular co-op day
URL:https://sparrowshomeed.com/event/co-op-meets-22/
LOCATION:Amery Free Lutheran Church\, 647 113th St\, Amery\, WI\, 54001\, United States
END:VEVENT
BEGIN:VEVENT
DTSTART;TZID=UTC:20250411T084500
DTEND;TZID=UTC:20250411T120000
DTSTAMP:20260423T214937
CREATED:20240822T161049Z
LAST-MODIFIED:20240822T161049Z
UID:607-1744361100-1744372800@sparrowshomeed.com
SUMMARY:Co-op Meets
DESCRIPTION:Regular co-op day
URL:https://sparrowshomeed.com/event/co-op-meets-21/
LOCATION:Amery Free Lutheran Church\, 647 113th St\, Amery\, WI\, 54001\, United States
END:VEVENT
BEGIN:VEVENT
DTSTART;TZID=UTC:20250328T084500
DTEND;TZID=UTC:20250328T120000
DTSTAMP:20260423T214937
CREATED:20240822T160851Z
LAST-MODIFIED:20240822T160851Z
UID:603-1743151500-1743163200@sparrowshomeed.com
SUMMARY:Co-op Meets
DESCRIPTION:Regular co-op meets
URL:https://sparrowshomeed.com/event/co-op-meets-20/
LOCATION:Amery Free Lutheran Church\, 647 113th St\, Amery\, WI\, 54001\, United States
END:VEVENT
BEGIN:VEVENT
DTSTART;TZID=UTC:20250314T084500
DTEND;TZID=UTC:20250314T120000
DTSTAMP:20260423T214937
CREATED:20240822T160816Z
LAST-MODIFIED:20240822T160816Z
UID:601-1741941900-1741953600@sparrowshomeed.com
SUMMARY:Co-op Meets
DESCRIPTION:Regular co-op day
URL:https://sparrowshomeed.com/event/co-op-meets-19/
LOCATION:Amery Free Lutheran Church\, 647 113th St\, Amery\, WI\, 54001\, United States
END:VEVENT
BEGIN:VEVENT
DTSTART;TZID=UTC:20250307T084500
DTEND;TZID=UTC:20250307T120000
DTSTAMP:20260423T214937
CREATED:20240822T160741Z
LAST-MODIFIED:20240822T160741Z
UID:598-1741337100-1741348800@sparrowshomeed.com
SUMMARY:Co-op Meets
DESCRIPTION:Regular co-op day
URL:https://sparrowshomeed.com/event/co-op-meets-18/
LOCATION:Amery Free Lutheran Church\, 647 113th St\, Amery\, WI\, 54001\, United States
END:VEVENT
BEGIN:VEVENT
DTSTART;TZID=UTC:20250221T084500
DTEND;TZID=UTC:20250221T120000
DTSTAMP:20260423T214937
CREATED:20240822T160453Z
LAST-MODIFIED:20240822T160453Z
UID:593-1740127500-1740139200@sparrowshomeed.com
SUMMARY:Co-op Meets
DESCRIPTION:Regular co-op day
URL:https://sparrowshomeed.com/event/co-op-meets-17/
LOCATION:Amery Free Lutheran Church\, 647 113th St\, Amery\, WI\, 54001\, United States
END:VEVENT
BEGIN:VEVENT
DTSTART;TZID=UTC:20250214T084500
DTEND;TZID=UTC:20250214T120000
DTSTAMP:20260423T214937
CREATED:20240822T160418Z
LAST-MODIFIED:20240822T160418Z
UID:591-1739522700-1739534400@sparrowshomeed.com
SUMMARY:Co-op Meets
DESCRIPTION:Regular co-op day
URL:https://sparrowshomeed.com/event/co-op-meets-16/
LOCATION:Amery Free Lutheran Church\, 647 113th St\, Amery\, WI\, 54001\, United States
END:VEVENT
BEGIN:VEVENT
DTSTART;TZID=UTC:20250207T084500
DTEND;TZID=UTC:20250207T120000
DTSTAMP:20260423T214937
CREATED:20240822T160344Z
LAST-MODIFIED:20240822T160344Z
UID:589-1738917900-1738929600@sparrowshomeed.com
SUMMARY:Co-op Meets
DESCRIPTION:Regular co-op day
URL:https://sparrowshomeed.com/event/co-op-meets-15/
LOCATION:Amery Free Lutheran Church\, 647 113th St\, Amery\, WI\, 54001\, United States
END:VEVENT
BEGIN:VEVENT
DTSTART;TZID=UTC:20250131T100000
DTEND;TZID=UTC:20250131T120000
DTSTAMP:20260423T214937
CREATED:20240822T160254Z
LAST-MODIFIED:20250110T202301Z
UID:586-1738317600-1738324800@sparrowshomeed.com
SUMMARY:Field Trip: Sledding
DESCRIPTION:Join us for a day of skating at the hockey rink in Amery! Keep an eye out in the newsletter and listen in on Morning Assembly to sign up and learn more.
URL:https://sparrowshomeed.com/event/field-trip-sledding/
LOCATION:Amery Free Lutheran Church\, 647 113th St\, Amery\, WI\, 54001\, United States
END:VEVENT
BEGIN:VEVENT
DTSTART;TZID=UTC:20250124T084500
DTEND;TZID=UTC:20250124T120000
DTSTAMP:20260423T214937
CREATED:20240822T160055Z
LAST-MODIFIED:20240822T160055Z
UID:584-1737708300-1737720000@sparrowshomeed.com
SUMMARY:Co-op Meets
DESCRIPTION:Regular co-op day
URL:https://sparrowshomeed.com/event/co-op-meets-14/
LOCATION:Amery Free Lutheran Church\, 647 113th St\, Amery\, WI\, 54001\, United States
END:VEVENT
BEGIN:VEVENT
DTSTART;TZID=UTC:20250117T084500
DTEND;TZID=UTC:20250117T120000
DTSTAMP:20260423T214937
CREATED:20240822T160003Z
LAST-MODIFIED:20240822T160003Z
UID:582-1737103500-1737115200@sparrowshomeed.com
SUMMARY:Co-op Meets
DESCRIPTION:Regular co-op day
URL:https://sparrowshomeed.com/event/co-op-meets-13/
LOCATION:Amery Free Lutheran Church\, 647 113th St\, Amery\, WI\, 54001\, United States
END:VEVENT
BEGIN:VEVENT
DTSTART;TZID=UTC:20250110T084500
DTEND;TZID=UTC:20250110T120000
DTSTAMP:20260423T214937
CREATED:20240822T155917Z
LAST-MODIFIED:20240822T155917Z
UID:580-1736498700-1736510400@sparrowshomeed.com
SUMMARY:First Day of Second Semester
DESCRIPTION:Regular co-op day
URL:https://sparrowshomeed.com/event/first-day-of-second-semester/
LOCATION:Amery Free Lutheran Church\, 647 113th St\, Amery\, WI\, 54001\, United States
END:VEVENT
BEGIN:VEVENT
DTSTART;TZID=UTC:20241213T173000
DTEND;TZID=UTC:20241213T193000
DTSTAMP:20260423T214937
CREATED:20240822T133844Z
LAST-MODIFIED:20240822T133844Z
UID:577-1734111000-1734118200@sparrowshomeed.com
SUMMARY:Sparrows Advent Showcase
DESCRIPTION:Please plan to join us for our Advent Showcase. The kids will get to show you what they’ve been working on for the year and we will share a meal in celebration of King Jesus. Keep an eye out for more information\, but get this date on your calendar and invite your families!
URL:https://sparrowshomeed.com/event/sparrows-advent-showcase/
LOCATION:Amery Free Lutheran Church\, 647 113th St\, Amery\, WI\, 54001\, United States
END:VEVENT
BEGIN:VEVENT
DTSTART;TZID=UTC:20241213T084500
DTEND;TZID=UTC:20241213T120000
DTSTAMP:20260423T214937
CREATED:20240822T133622Z
LAST-MODIFIED:20240822T133622Z
UID:574-1734079500-1734091200@sparrowshomeed.com
SUMMARY:Co-op Meets
DESCRIPTION:Regular co-op day
URL:https://sparrowshomeed.com/event/co-op-meets-12/
LOCATION:Amery Free Lutheran Church\, 647 113th St\, Amery\, WI\, 54001\, United States
END:VEVENT
BEGIN:VEVENT
DTSTART;TZID=UTC:20241206T084500
DTEND;TZID=UTC:20241206T120000
DTSTAMP:20260423T214937
CREATED:20240822T133546Z
LAST-MODIFIED:20240822T133546Z
UID:572-1733474700-1733486400@sparrowshomeed.com
SUMMARY:Co-op Meets
DESCRIPTION:Regular co-op day
URL:https://sparrowshomeed.com/event/co-op-meets-11/
LOCATION:Amery Free Lutheran Church\, 647 113th St\, Amery\, WI\, 54001\, United States
END:VEVENT
END:VCALENDAR