BEGIN:VCALENDAR
VERSION:2.0
PRODID:-//Sparrows Home Education - ECPv6.15.20//NONSGML v1.0//EN
CALSCALE:GREGORIAN
METHOD:PUBLISH
X-WR-CALNAME:Sparrows Home Education
X-ORIGINAL-URL:https://sparrowshomeed.com
X-WR-CALDESC:Events for Sparrows Home Education
REFRESH-INTERVAL;VALUE=DURATION:PT1H
X-Robots-Tag:noindex
X-PUBLISHED-TTL:PT1H
BEGIN:VTIMEZONE
TZID:UTC
BEGIN:STANDARD
TZOFFSETFROM:+0000
TZOFFSETTO:+0000
TZNAME:UTC
DTSTART:20220101T000000
END:STANDARD
END:VTIMEZONE
BEGIN:VEVENT
DTSTART;TZID=UTC:20231103T090000
DTEND;TZID=UTC:20231103T120000
DTSTAMP:20260425T124047
CREATED:20230929T192537Z
LAST-MODIFIED:20230929T193204Z
UID:132-1699002000-1699012800@sparrowshomeed.com
SUMMARY:1st Day of Term 2
DESCRIPTION:
URL:https://sparrowshomeed.com/event/1stdayterm2/
END:VEVENT
END:VCALENDAR