BEGIN:VCALENDAR
VERSION:2.0
PRODID:-//Sparrows Home Education - ECPv6.15.20//NONSGML v1.0//EN
CALSCALE:GREGORIAN
METHOD:PUBLISH
X-WR-CALNAME:Sparrows Home Education
X-ORIGINAL-URL:https://sparrowshomeed.com
X-WR-CALDESC:Events for Sparrows Home Education
REFRESH-INTERVAL;VALUE=DURATION:PT1H
X-Robots-Tag:noindex
X-PUBLISHED-TTL:PT1H
BEGIN:VTIMEZONE
TZID:UTC
BEGIN:STANDARD
TZOFFSETFROM:+0000
TZOFFSETTO:+0000
TZNAME:UTC
DTSTART:20230101T000000
END:STANDARD
END:VTIMEZONE
BEGIN:VEVENT
DTSTART;VALUE=DATE:20240223
DTEND;VALUE=DATE:20240224
DTSTAMP:20260425T040455
CREATED:20240112T011224Z
LAST-MODIFIED:20240212T161348Z
UID:265-1708646400-1708732799@sparrowshomeed.com
SUMMARY:Break Week
DESCRIPTION:
URL:https://sparrowshomeed.com/event/field-trip/
END:VEVENT
BEGIN:VEVENT
DTSTART;TZID=UTC:20240223T140000
DTEND;TZID=UTC:20240223T163000
DTSTAMP:20260425T040455
CREATED:20240212T162209Z
LAST-MODIFIED:20240212T162209Z
UID:303-1708696800-1708705800@sparrowshomeed.com
SUMMARY:Family Game Night
DESCRIPTION:Join us for a fun family game night! Bring a favorite game and snack to share.
URL:https://sparrowshomeed.com/event/family-game-night/
LOCATION:Osceola Community Church
END:VEVENT
END:VCALENDAR